BEGIN:VCALENDAR
VERSION:2.0
PRODID:-//Alcaldía de Palmira - ECPv6.15.20//NONSGML v1.0//EN
CALSCALE:GREGORIAN
METHOD:PUBLISH
X-ORIGINAL-URL:https://palmira.gov.co
X-WR-CALDESC:Eventos para Alcaldía de Palmira
REFRESH-INTERVAL;VALUE=DURATION:PT1H
X-Robots-Tag:noindex
X-PUBLISHED-TTL:PT1H
BEGIN:VTIMEZONE
TZID:America/Bogota
BEGIN:STANDARD
TZOFFSETFROM:-0500
TZOFFSETTO:-0500
TZNAME:-05
DTSTART:20200101T000000
END:STANDARD
END:VTIMEZONE
BEGIN:VEVENT
DTSTART;TZID=America/Bogota:20210601T070000
DTEND;TZID=America/Bogota:20210604T150000
DTSTAMP:20260425T134900
CREATED:20210531T151036Z
LAST-MODIFIED:20221013T220609Z
UID:4494-1622530800-1622818800@palmira.gov.co
SUMMARY:Jornada de Vacunación
DESCRIPTION:Con el fin de que puedan acceder de manera segura y efectiva a la vacuna contra el COVID-19\, la Alcaldía de Palmira ha habilitado este espacio para que las personas priorizadas en las etapas vigentes por la Gobernación de Valle del Cauca y el municipio\, se agenden y programen su cita para iniciar el proceso de vacunación.
URL:https://palmira.gov.co/calendario/jornada-de-vacunacion/
ATTACH;FMTTYPE=image/jpeg:https://palmira.gov.co/wp-content/uploads/2021/05/vacunacion-mayoresde-55.jpg
END:VEVENT
BEGIN:VEVENT
DTSTART;TZID=America/Bogota:20210601T070000
DTEND;TZID=America/Bogota:20210604T150000
DTSTAMP:20260425T134900
CREATED:20210531T151036Z
LAST-MODIFIED:20221013T220609Z
UID:4494-1622530800-1622818800@palmira.gov.co
SUMMARY:Jornada de Vacunación
DESCRIPTION:Con el fin de que puedan acceder de manera segura y efectiva a la vacuna contra el COVID-19\, la Alcaldía de Palmira ha habilitado este espacio para que las personas priorizadas en las etapas vigentes por la Gobernación de Valle del Cauca y el municipio\, se agenden y programen su cita para iniciar el proceso de vacunación.
URL:https://palmira.gov.co/calendario/jornada-de-vacunacion/
ATTACH;FMTTYPE=image/jpeg:https://palmira.gov.co/wp-content/uploads/2021/05/vacunacion-mayoresde-55.jpg
END:VEVENT
BEGIN:VEVENT
DTSTART;TZID=America/Bogota:20210601T070000
DTEND;TZID=America/Bogota:20210604T150000
DTSTAMP:20260425T134900
CREATED:20210531T151036Z
LAST-MODIFIED:20221013T220609Z
UID:4494-1622530800-1622818800@palmira.gov.co
SUMMARY:Jornada de Vacunación
DESCRIPTION:Con el fin de que puedan acceder de manera segura y efectiva a la vacuna contra el COVID-19\, la Alcaldía de Palmira ha habilitado este espacio para que las personas priorizadas en las etapas vigentes por la Gobernación de Valle del Cauca y el municipio\, se agenden y programen su cita para iniciar el proceso de vacunación.
URL:https://palmira.gov.co/calendario/jornada-de-vacunacion/
ATTACH;FMTTYPE=image/jpeg:https://palmira.gov.co/wp-content/uploads/2021/05/vacunacion-mayoresde-55.jpg
END:VEVENT
BEGIN:VEVENT
DTSTART;TZID=America/Bogota:20210601T070000
DTEND;TZID=America/Bogota:20210604T150000
DTSTAMP:20260425T134900
CREATED:20210531T151036Z
LAST-MODIFIED:20221013T220609Z
UID:4494-1622530800-1622818800@palmira.gov.co
SUMMARY:Jornada de Vacunación
DESCRIPTION:Con el fin de que puedan acceder de manera segura y efectiva a la vacuna contra el COVID-19\, la Alcaldía de Palmira ha habilitado este espacio para que las personas priorizadas en las etapas vigentes por la Gobernación de Valle del Cauca y el municipio\, se agenden y programen su cita para iniciar el proceso de vacunación.
URL:https://palmira.gov.co/calendario/jornada-de-vacunacion/
ATTACH;FMTTYPE=image/jpeg:https://palmira.gov.co/wp-content/uploads/2021/05/vacunacion-mayoresde-55.jpg
END:VEVENT
BEGIN:VEVENT
DTSTART;TZID=America/Bogota:20211019T130000
DTEND;TZID=America/Bogota:20211019T170000
DTSTAMP:20260425T134900
CREATED:20211021T204405Z
LAST-MODIFIED:20211021T204405Z
UID:9245-1634648400-1634662800@palmira.gov.co
SUMMARY:Vacunación
DESCRIPTION:Te invitamos a nuestros encuentros presenciales sobre dengue\, tuberculosis y vacunación.  Entrenamientos certificados\n#PalmiraPaLante
URL:https://palmira.gov.co/calendario/vacunacion/
CATEGORIES:Salud
ATTACH;FMTTYPE=image/jpeg:https://palmira.gov.co/wp-content/uploads/2021/10/245957719_4237636783025190_8471815462906771981_n.jpg
END:VEVENT
BEGIN:VEVENT
DTSTART;TZID=America/Bogota:20211021T170000
DTEND;TZID=America/Bogota:20211021T183000
DTSTAMP:20260425T134900
CREATED:20211021T201240Z
LAST-MODIFIED:20211021T201358Z
UID:9217-1634835600-1634841000@palmira.gov.co
SUMMARY:talleres de socialización de GOCatastral
DESCRIPTION:¿Tienes dudas o preguntas frente al proceso de actualización que se realiza en #Palmira? Participa de los diferentes talleres de socialización de #GOCatastral\, pasa la voz a tus amigos\, familiares y vecinos para que conozcan detalles sobre:\n\n\n\n\n\n•La gestión catastral en Palmira.\n•Fases de la actualización\, conservación y difusión catastral.\n•Beneficios del Catastro Multipropósito.
URL:https://palmira.gov.co/calendario/talleres-de-socializacion-de-gocatastral/
ATTACH;FMTTYPE=image/jpeg:https://palmira.gov.co/wp-content/uploads/2021/10/247267290_4240675286054673_6450471264565821437_n.jpg
END:VEVENT
END:VCALENDAR