BEGIN:VCALENDAR
VERSION:2.0
PRODID:-//Alcaldía de Palmira - ECPv6.15.20//NONSGML v1.0//EN
CALSCALE:GREGORIAN
METHOD:PUBLISH
X-WR-CALNAME:Alcaldía de Palmira
X-ORIGINAL-URL:https://palmira.gov.co
X-WR-CALDESC:Eventos para Alcaldía de Palmira
REFRESH-INTERVAL;VALUE=DURATION:PT1H
X-Robots-Tag:noindex
X-PUBLISHED-TTL:PT1H
BEGIN:VTIMEZONE
TZID:America/Bogota
BEGIN:STANDARD
TZOFFSETFROM:-0500
TZOFFSETTO:-0500
TZNAME:-05
DTSTART:20200101T000000
END:STANDARD
END:VTIMEZONE
BEGIN:VEVENT
DTSTART;TZID=America/Bogota:20210601T070000
DTEND;TZID=America/Bogota:20210604T150000
DTSTAMP:20260423T074351
CREATED:20210531T151036Z
LAST-MODIFIED:20221013T220609Z
UID:4494-1622530800-1622818800@palmira.gov.co
SUMMARY:Jornada de Vacunación
DESCRIPTION:Con el fin de que puedan acceder de manera segura y efectiva a la vacuna contra el COVID-19\, la Alcaldía de Palmira ha habilitado este espacio para que las personas priorizadas en las etapas vigentes por la Gobernación de Valle del Cauca y el municipio\, se agenden y programen su cita para iniciar el proceso de vacunación.
URL:https://palmira.gov.co/calendario/jornada-de-vacunacion/
ATTACH;FMTTYPE=image/jpeg:https://palmira.gov.co/wp-content/uploads/2021/05/vacunacion-mayoresde-55.jpg
END:VEVENT
BEGIN:VEVENT
DTSTART;TZID=America/Bogota:20210601T070000
DTEND;TZID=America/Bogota:20210604T150000
DTSTAMP:20260423T074351
CREATED:20210531T151036Z
LAST-MODIFIED:20221013T220609Z
UID:4494-1622530800-1622818800@palmira.gov.co
SUMMARY:Jornada de Vacunación
DESCRIPTION:Con el fin de que puedan acceder de manera segura y efectiva a la vacuna contra el COVID-19\, la Alcaldía de Palmira ha habilitado este espacio para que las personas priorizadas en las etapas vigentes por la Gobernación de Valle del Cauca y el municipio\, se agenden y programen su cita para iniciar el proceso de vacunación.
URL:https://palmira.gov.co/calendario/jornada-de-vacunacion/
ATTACH;FMTTYPE=image/jpeg:https://palmira.gov.co/wp-content/uploads/2021/05/vacunacion-mayoresde-55.jpg
END:VEVENT
BEGIN:VEVENT
DTSTART;TZID=America/Bogota:20210601T070000
DTEND;TZID=America/Bogota:20210604T150000
DTSTAMP:20260423T074351
CREATED:20210531T151036Z
LAST-MODIFIED:20221013T220609Z
UID:4494-1622530800-1622818800@palmira.gov.co
SUMMARY:Jornada de Vacunación
DESCRIPTION:Con el fin de que puedan acceder de manera segura y efectiva a la vacuna contra el COVID-19\, la Alcaldía de Palmira ha habilitado este espacio para que las personas priorizadas en las etapas vigentes por la Gobernación de Valle del Cauca y el municipio\, se agenden y programen su cita para iniciar el proceso de vacunación.
URL:https://palmira.gov.co/calendario/jornada-de-vacunacion/
ATTACH;FMTTYPE=image/jpeg:https://palmira.gov.co/wp-content/uploads/2021/05/vacunacion-mayoresde-55.jpg
END:VEVENT
BEGIN:VEVENT
DTSTART;TZID=America/Bogota:20211021T070000
DTEND;TZID=America/Bogota:20211029T160000
DTSTAMP:20260423T074351
CREATED:20211021T195643Z
LAST-MODIFIED:20211021T195643Z
UID:9207-1634799600-1635523200@palmira.gov.co
SUMMARY:Pago de impuestos
DESCRIPTION:Aprovecha hasta el 29 de octubre descuentos del 100% en intereses de tus impuestos en vigencias 2020 y 2021. Te esperamos en la oficina de atención al contribuyente\, en el primer piso del CAMP.
URL:https://palmira.gov.co/calendario/pago-de-impuestos/
LOCATION:Alcaldia de Palmira – CAMP\, Colombia
CATEGORIES:Hacienda
ATTACH;FMTTYPE=image/jpeg:https://palmira.gov.co/wp-content/uploads/2021/10/247608086_4243093749146160_138121804016681317_n.jpg
END:VEVENT
BEGIN:VEVENT
DTSTART;TZID=America/Bogota:20211020T070000
DTEND;TZID=America/Bogota:20211020T160000
DTSTAMP:20260423T074351
CREATED:20211021T203406Z
LAST-MODIFIED:20211021T203406Z
UID:9234-1634713200-1634745600@palmira.gov.co
SUMMARY:Visita museo arqueológico
DESCRIPTION:Vive la magia\, vive la cultura con una visita al Museo Arqueológico de Palmira\, que tendrá entrada gratuita para toda la comunidad los días 20\, 21 y 22 de octubre. El aforo será controlado (15 personas ) y se pide cumplir con todos los protocolos de bioseguiridad.  \n¡En Palmira hay cultura para todos! \n 
URL:https://palmira.gov.co/calendario/visita-museo-arqueologico/
LOCATION:Centro de Convenciones Palmira\, Colombia
CATEGORIES:Cultura
ATTACH;FMTTYPE=image/jpeg:https://palmira.gov.co/wp-content/uploads/2021/10/247248325_4239404242848444_8434954620429018239_n.jpg
END:VEVENT
BEGIN:VEVENT
DTSTART;TZID=America/Bogota:20210601T070000
DTEND;TZID=America/Bogota:20210604T150000
DTSTAMP:20260423T074351
CREATED:20210531T151036Z
LAST-MODIFIED:20221013T220609Z
UID:4494-1622530800-1622818800@palmira.gov.co
SUMMARY:Jornada de Vacunación
DESCRIPTION:Con el fin de que puedan acceder de manera segura y efectiva a la vacuna contra el COVID-19\, la Alcaldía de Palmira ha habilitado este espacio para que las personas priorizadas en las etapas vigentes por la Gobernación de Valle del Cauca y el municipio\, se agenden y programen su cita para iniciar el proceso de vacunación.
URL:https://palmira.gov.co/calendario/jornada-de-vacunacion/
ATTACH;FMTTYPE=image/jpeg:https://palmira.gov.co/wp-content/uploads/2021/05/vacunacion-mayoresde-55.jpg
END:VEVENT
BEGIN:VEVENT
DTSTART;TZID=America/Bogota:20211022T133000
DTEND;TZID=America/Bogota:20211022T143000
DTSTAMP:20260423T074351
CREATED:20211021T200608Z
LAST-MODIFIED:20211021T200608Z
UID:9214-1634909400-1634913000@palmira.gov.co
SUMMARY:Rendición de Cuentas 2021 - Dirección de Emprendimiento
DESCRIPTION:Este viernes\, 22 de octubre\, iniciamos la rendición de cuentas 2021 con @palmiraemprende  Invitamos a toda la ciudadanía a seguir la transmisión por el Facebook de la Dirección\, para que conozca las acciones que hemos venido trabajado para apoyar al sector económico. \n\n\n#PalmiraPaLante
URL:https://palmira.gov.co/calendario/rendicion-de-cuentas-2021-direccion-de-emprendimiento/
CATEGORIES:emprendimiento
ATTACH;FMTTYPE=image/jpeg:https://palmira.gov.co/wp-content/uploads/2021/10/247021137_4240817509373784_5748103363101398202_n.jpg
END:VEVENT
END:VCALENDAR