BEGIN:VCALENDAR
VERSION:2.0
PRODID:-//Alcaldía de Palmira - ECPv6.15.20//NONSGML v1.0//EN
CALSCALE:GREGORIAN
METHOD:PUBLISH
X-ORIGINAL-URL:https://palmira.gov.co
X-WR-CALDESC:Eventos para Alcaldía de Palmira
REFRESH-INTERVAL;VALUE=DURATION:PT1H
X-Robots-Tag:noindex
X-PUBLISHED-TTL:PT1H
BEGIN:VTIMEZONE
TZID:America/Bogota
BEGIN:STANDARD
TZOFFSETFROM:-0500
TZOFFSETTO:-0500
TZNAME:-05
DTSTART:20230101T000000
END:STANDARD
END:VTIMEZONE
BEGIN:VEVENT
DTSTART;VALUE=DATE:20240519
DTEND;VALUE=DATE:20240526
DTSTAMP:20260423T194654
CREATED:20240515T165853Z
LAST-MODIFIED:20240515T165853Z
UID:35441-1716159600-1716677999@palmira.gov.co
SUMMARY:SEMANA DE LA AFROCOLOMBIANIDAD
DESCRIPTION:Tendremos presentaciones artísticas\,festival gastronómico y cultural\, exhibición de trenzas\, turbante y barberia \, pasarela afrocolonbiana y mucho más..
URL:https://palmira.gov.co/calendario/semana-de-la-afrocolombianidad/
CATEGORIES:Integración Social
ATTACH;FMTTYPE=image/jpeg:https://palmira.gov.co/wp-content/uploads/2024/05/442413408_840717598091482_2891577133008186949_n.jpg
END:VEVENT
END:VCALENDAR