BEGIN:VCALENDAR
VERSION:2.0
PRODID:-//Alcaldía de Palmira - ECPv6.15.20//NONSGML v1.0//EN
CALSCALE:GREGORIAN
METHOD:PUBLISH
X-WR-CALNAME:Alcaldía de Palmira
X-ORIGINAL-URL:https://palmira.gov.co
X-WR-CALDESC:Eventos para Alcaldía de Palmira
REFRESH-INTERVAL;VALUE=DURATION:PT1H
X-Robots-Tag:noindex
X-PUBLISHED-TTL:PT1H
BEGIN:VTIMEZONE
TZID:America/Bogota
BEGIN:STANDARD
TZOFFSETFROM:-0500
TZOFFSETTO:-0500
TZNAME:-05
DTSTART:20250101T000000
END:STANDARD
END:VTIMEZONE
BEGIN:VEVENT
DTSTART;TZID=America/Bogota:20260201T080000
DTEND;TZID=America/Bogota:20260501T170000
DTSTAMP:20260421T160644
CREATED:20260216T133827Z
LAST-MODIFIED:20260216T163249Z
UID:50514-1769932800-1777654800@palmira.gov.co
SUMMARY:Actualización del Registro Nacional de Turismo
DESCRIPTION:El Ministerio de Comercio\, Industria y Turismo invita a todos los prestadores de servicios turísticos a realizar la renovación del Registro Nacional de Turismo (RNT) para la vigencia 2026. Este trámite es de carácter obligatorio y permite la operación legal de los establecimientos y contribuye a la formalización y fortalecimiento del sector.
URL:https://palmira.gov.co/calendario/actualizacion-del-registro-nacional-de-turismo/
END:VEVENT
BEGIN:VEVENT
DTSTART;TZID=America/Bogota:20260415T080000
DTEND;TZID=America/Bogota:20260423T170000
DTSTAMP:20260421T160644
CREATED:20260414T143840Z
LAST-MODIFIED:20260420T191246Z
UID:51920-1776240000-1776963600@palmira.gov.co
SUMMARY:Entrega Boletas Día de la Niñez
DESCRIPTION:Jornada de entrega de boletería para el evento central de conmemoración del Dia de la Niñez
URL:https://palmira.gov.co/calendario/entrega-boletas-dia-de-la-ninez/
LOCATION:Centro Cultural Guillermo Barney Materon
ATTACH;FMTTYPE=image/jpeg:https://palmira.gov.co/wp-content/uploads/2026/04/150426_AlcaldiaPalmira_IntegracionSocial.jpeg
END:VEVENT
BEGIN:VEVENT
DTSTART;TZID=America/Bogota:20260421T180000
DTEND;TZID=America/Bogota:20260421T200000
DTSTAMP:20260421T160644
CREATED:20260417T161219Z
LAST-MODIFIED:20260420T171435Z
UID:52117-1776794400-1776801600@palmira.gov.co
SUMMARY:Construcción Participativa Política Pública de Bienestar Animal
DESCRIPTION:La Dirección de Gestión del Medio Ambiente invita a la comunidad a participar de los encuentros comunitarios para construir la Política Pública Municipal de Protección y Bienestar Animal
URL:https://palmira.gov.co/calendario/construccion-participativa-politica-publica-de-bienestar-animal/
LOCATION:Sede COmuna Barrio Fátima
ATTACH;FMTTYPE=image/jpeg:https://palmira.gov.co/wp-content/uploads/2026/04/Defensanimal.jpeg
END:VEVENT
END:VCALENDAR