BEGIN:VCALENDAR
VERSION:2.0
PRODID:-//Alcaldía de Palmira - ECPv6.15.20//NONSGML v1.0//EN
CALSCALE:GREGORIAN
METHOD:PUBLISH
X-ORIGINAL-URL:https://palmira.gov.co
X-WR-CALDESC:Eventos para Alcaldía de Palmira
REFRESH-INTERVAL;VALUE=DURATION:PT1H
X-Robots-Tag:noindex
X-PUBLISHED-TTL:PT1H
BEGIN:VTIMEZONE
TZID:America/Bogota
BEGIN:STANDARD
TZOFFSETFROM:-0500
TZOFFSETTO:-0500
TZNAME:-05
DTSTART:20240101T000000
END:STANDARD
END:VTIMEZONE
BEGIN:VEVENT
DTSTART;TZID=America/Bogota:20250510T073000
DTEND;TZID=America/Bogota:20250510T130000
DTSTAMP:20260425T150029
CREATED:20250509T151905Z
LAST-MODIFIED:20250512T204948Z
UID:44052-1746862200-1746882000@palmira.gov.co
SUMMARY:Día Mundial de las Aves Migratorias
DESCRIPTION:Este sábado en el Bosque Municipal de 7 de la mañana a 1 de la tarde\, los avistadores de aves pueden disfrutar de este evento en el Bosque Municipal
URL:https://palmira.gov.co/calendario/dia-mundial-de-las-aves-migratorias/
LOCATION:Bosque Municipal\, Palmira
CATEGORIES:Cultura,emprendimiento
ATTACH;FMTTYPE=image/jpeg:https://palmira.gov.co/wp-content/uploads/2025/05/WhatsApp-Image-2025-05-08-at-5.27.15-PM.jpeg
END:VEVENT
BEGIN:VEVENT
DTSTART;TZID=America/Bogota:20250517T180000
DTEND;TZID=America/Bogota:20250517T223000
DTSTAMP:20260425T150029
CREATED:20250512T145427Z
LAST-MODIFIED:20250512T204253Z
UID:44099-1747504800-1747521000@palmira.gov.co
SUMMARY:Concierto Gran Homenaje para Mamá La Incondicional
DESCRIPTION:Presentación gratuita de Alci Acosta\, Los Iracundos y Boeloro en el Coliseo Ramón Elias López\, con boletería gratuita
URL:https://palmira.gov.co/calendario/concierto-gran-homenaje-para-mama-la-incondicional/
LOCATION:Coliseo Ramón Elias López
CATEGORIES:Cultura
ATTACH;FMTTYPE=image/jpeg:https://palmira.gov.co/wp-content/uploads/2025/05/WhatsApp-Image-2025-05-09-at-5.42.46-PM.jpeg
END:VEVENT
BEGIN:VEVENT
DTSTART;TZID=America/Bogota:20250518T060000
DTEND;TZID=America/Bogota:20250518T120000
DTSTAMP:20260425T150029
CREATED:20250514T170132Z
LAST-MODIFIED:20250518T171645Z
UID:44265-1747548000-1747569600@palmira.gov.co
SUMMARY:Feria Campesina
DESCRIPTION:Comercialización de productos frescos del campo\, sin intermediarios
URL:https://palmira.gov.co/calendario/feria-campesina/
LOCATION:Parque La Factoria
CATEGORIES:Cultura
ATTACH;FMTTYPE=image/jpeg:https://palmira.gov.co/wp-content/uploads/2025/05/WhatsApp-Image-2025-05-18-at-11.20.42-AM.jpeg
END:VEVENT
BEGIN:VEVENT
DTSTART;TZID=America/Bogota:20250518T140000
DTEND;TZID=America/Bogota:20250518T170000
DTSTAMP:20260425T150029
CREATED:20250516T151124Z
LAST-MODIFIED:20250518T171609Z
UID:44272-1747576800-1747587600@palmira.gov.co
SUMMARY:Festival de Música Agropecuaria
DESCRIPTION:Actividad de la agenda cultural en la zona rural
URL:https://palmira.gov.co/calendario/festival-de-musica-agropecuaria/
LOCATION:Tablones
CATEGORIES:Cultura
ATTACH;FMTTYPE=image/jpeg:https://palmira.gov.co/wp-content/uploads/2025/05/WhatsApp-Image-2025-05-16-at-8.39.09-AM-1.jpeg
END:VEVENT
BEGIN:VEVENT
DTSTART;TZID=America/Bogota:20250524T080000
DTEND;TZID=America/Bogota:20250524T140000
DTSTAMP:20260425T150029
CREATED:20250521T224208Z
LAST-MODIFIED:20250529T152225Z
UID:44473-1748073600-1748095200@palmira.gov.co
SUMMARY:Festival Cimarrón Fest2025
DESCRIPTION:Presentaciones y muestras gastronómicas en la celebración de la Semana de la Afrocolombianidad
URL:https://palmira.gov.co/calendario/festival-cimarron-fest2025/
LOCATION:Bulevar La Carbonera
CATEGORIES:Cultura
ATTACH;FMTTYPE=image/jpeg:https://palmira.gov.co/wp-content/uploads/2025/05/WhatsApp-Image-2025-05-21-at-3.34.03-PM-1.jpeg
END:VEVENT
BEGIN:VEVENT
DTSTART;TZID=America/Bogota:20250524T140000
DTEND;TZID=America/Bogota:20250524T170000
DTSTAMP:20260425T150029
CREATED:20250516T070606Z
LAST-MODIFIED:20250518T213149Z
UID:44269-1748095200-1748106000@palmira.gov.co
SUMMARY:Festival Folclórico Kacharipari
DESCRIPTION:Espectáculo de danza folclórica\, como parte de la agenda cultural Culturizate
URL:https://palmira.gov.co/calendario/festival-folclorico-kacharipari/
CATEGORIES:Cultura
ATTACH;FMTTYPE=image/jpeg:https://palmira.gov.co/wp-content/uploads/2025/05/WhatsApp-Image-2025-05-16-at-8.39.09-AM.jpeg
END:VEVENT
BEGIN:VEVENT
DTSTART;TZID=America/Bogota:20250525T170000
DTEND;TZID=America/Bogota:20250525T190000
DTSTAMP:20260425T150030
CREATED:20250518T171345Z
LAST-MODIFIED:20250518T213136Z
UID:44276-1748192400-1748199600@palmira.gov.co
SUMMARY:Tarde Recreativa y Cultural
DESCRIPTION:Agenda cultural del programa Culturízate
URL:https://palmira.gov.co/calendario/tarde-recreativa-y-cultural/
LOCATION:Bulevar La Carbonera
CATEGORIES:Cultura
ATTACH;FMTTYPE=image/jpeg:https://palmira.gov.co/wp-content/uploads/2025/05/WhatsApp-Image-2025-05-16-at-8.39.09-AM-1-1.jpeg
END:VEVENT
BEGIN:VEVENT
DTSTART;TZID=America/Bogota:20250529T160000
DTEND;TZID=America/Bogota:20250529T180000
DTSTAMP:20260425T150030
CREATED:20250528T201115Z
LAST-MODIFIED:20250529T151913Z
UID:44587-1748534400-1748541600@palmira.gov.co
SUMMARY:Taller Inclucine
DESCRIPTION:Presentación de cortometrajes creados por personas sordas de Palmira y cortos nacionales con subtitulos\, lengua de señas y audiodescripción.
URL:https://palmira.gov.co/calendario/taller-inclucine/
LOCATION:Biblioteca Dora Alexandra Pinto de Izquierdo\, Centro Cultural Materon 3 piso
CATEGORIES:Cultura
ATTACH;FMTTYPE=image/jpeg:https://palmira.gov.co/wp-content/uploads/2025/05/WhatsApp-Image-2025-05-28-at-2.58.19-PM-2.jpeg
END:VEVENT
BEGIN:VEVENT
DTSTART;TZID=America/Bogota:20250529T180000
DTEND;TZID=America/Bogota:20250529T200000
DTSTAMP:20260425T150030
CREATED:20250528T204204Z
LAST-MODIFIED:20250529T151844Z
UID:44594-1748541600-1748548800@palmira.gov.co
SUMMARY:Taller de Danza Andina
DESCRIPTION:Evento de formación gratuita y abierta de formación en danza folclórica
URL:https://palmira.gov.co/calendario/taller-de-danza-andina/
CATEGORIES:Cultura
ATTACH;FMTTYPE=image/jpeg:https://palmira.gov.co/wp-content/uploads/2025/05/DANZA-ANDINA-29-MAYO_Mesa-de-trabajo-1_Mesa-de-trabajo-1-1-scaled.jpg
END:VEVENT
BEGIN:VEVENT
DTSTART;TZID=America/Bogota:20250530T180000
DTEND;TZID=America/Bogota:20250530T200000
DTSTAMP:20260425T150030
CREATED:20250528T202322Z
LAST-MODIFIED:20250529T151817Z
UID:44591-1748628000-1748635200@palmira.gov.co
SUMMARY:Obra de Teatro "Jesús"
DESCRIPTION:El Instituto Departamental de Bellas Artes presenta JESÚS\, una adptación del texto de Virgilio Piñera\, dirigido por Genny Cuervo\, como parte de la agenda cultural gratuita que ofrece la Secretaría de Cultura
URL:https://palmira.gov.co/calendario/obra-de-teatro-jesus/
CATEGORIES:Cultura
ATTACH;FMTTYPE=image/jpeg:https://palmira.gov.co/wp-content/uploads/2025/05/WhatsApp-Image-2025-05-28-at-2.58.07-PM-2.jpeg
END:VEVENT
BEGIN:VEVENT
DTSTART;TZID=America/Bogota:20250531T150000
DTEND;TZID=America/Bogota:20250531T170000
DTSTAMP:20260425T150030
CREATED:20250518T172053Z
LAST-MODIFIED:20250529T151648Z
UID:44281-1748703600-1748710800@palmira.gov.co
SUMMARY:Festival de Música Agropecuaria
DESCRIPTION:Agenda cultural del programa Culturízate
URL:https://palmira.gov.co/calendario/festival-de-musica-agropecuaria-2/
CATEGORIES:Cultura
ATTACH;FMTTYPE=image/jpeg:https://palmira.gov.co/wp-content/uploads/2025/05/FESTIVAL-MUSICA-AGROPECURIA_Mesa-de-trabajo-1-copia-1-scaled.jpg
END:VEVENT
END:VCALENDAR