BEGIN:VCALENDAR
VERSION:2.0
PRODID:-//Alcaldía de Palmira - ECPv6.15.20//NONSGML v1.0//EN
CALSCALE:GREGORIAN
METHOD:PUBLISH
X-ORIGINAL-URL:https://palmira.gov.co
X-WR-CALDESC:Eventos para Alcaldía de Palmira
REFRESH-INTERVAL;VALUE=DURATION:PT1H
X-Robots-Tag:noindex
X-PUBLISHED-TTL:PT1H
BEGIN:VTIMEZONE
TZID:America/Bogota
BEGIN:STANDARD
TZOFFSETFROM:-0500
TZOFFSETTO:-0500
TZNAME:-05
DTSTART:20240101T000000
END:STANDARD
END:VTIMEZONE
BEGIN:VEVENT
DTSTART;TZID=America/Bogota:20250708T080000
DTEND;TZID=America/Bogota:20250708T190000
DTSTAMP:20260422T173650
CREATED:20250704T214835Z
LAST-MODIFIED:20250714T201500Z
UID:45483-1751961600-1752001200@palmira.gov.co
SUMMARY:Cine en el Materon
DESCRIPTION:Cine colombiano e iberoamericano con entrada libre
URL:https://palmira.gov.co/calendario/cine-en-el-materon/
LOCATION:Centro Cultural Guillermo Barney Materon
CATEGORIES:Cultura
ATTACH;FMTTYPE=image/jpeg:https://palmira.gov.co/wp-content/uploads/2025/07/WhatsApp-Image-2025-07-04-at-4.42.24-PM.jpeg
END:VEVENT
END:VCALENDAR