BEGIN:VCALENDAR
VERSION:2.0
PRODID:-//Alcaldía de Palmira - ECPv6.15.20//NONSGML v1.0//EN
CALSCALE:GREGORIAN
METHOD:PUBLISH
X-WR-CALNAME:Alcaldía de Palmira
X-ORIGINAL-URL:https://palmira.gov.co
X-WR-CALDESC:Eventos para Alcaldía de Palmira
REFRESH-INTERVAL;VALUE=DURATION:PT1H
X-Robots-Tag:noindex
X-PUBLISHED-TTL:PT1H
BEGIN:VTIMEZONE
TZID:America/Bogota
BEGIN:STANDARD
TZOFFSETFROM:-0500
TZOFFSETTO:-0500
TZNAME:-05
DTSTART:20200101T000000
END:STANDARD
END:VTIMEZONE
BEGIN:VEVENT
DTSTART;TZID=America/Bogota:20210601T070000
DTEND;TZID=America/Bogota:20210604T150000
DTSTAMP:20260423T053702
CREATED:20210531T151036Z
LAST-MODIFIED:20221013T220609Z
UID:4494-1622530800-1622818800@palmira.gov.co
SUMMARY:Jornada de Vacunación
DESCRIPTION:Con el fin de que puedan acceder de manera segura y efectiva a la vacuna contra el COVID-19\, la Alcaldía de Palmira ha habilitado este espacio para que las personas priorizadas en las etapas vigentes por la Gobernación de Valle del Cauca y el municipio\, se agenden y programen su cita para iniciar el proceso de vacunación.
URL:https://palmira.gov.co/calendario/jornada-de-vacunacion/
ATTACH;FMTTYPE=image/jpeg:https://palmira.gov.co/wp-content/uploads/2021/05/vacunacion-mayoresde-55.jpg
END:VEVENT
BEGIN:VEVENT
DTSTART;TZID=America/Bogota:20210601T070000
DTEND;TZID=America/Bogota:20210604T150000
DTSTAMP:20260423T053702
CREATED:20210531T151036Z
LAST-MODIFIED:20221013T220609Z
UID:4494-1622530800-1622818800@palmira.gov.co
SUMMARY:Jornada de Vacunación
DESCRIPTION:Con el fin de que puedan acceder de manera segura y efectiva a la vacuna contra el COVID-19\, la Alcaldía de Palmira ha habilitado este espacio para que las personas priorizadas en las etapas vigentes por la Gobernación de Valle del Cauca y el municipio\, se agenden y programen su cita para iniciar el proceso de vacunación.
URL:https://palmira.gov.co/calendario/jornada-de-vacunacion/
ATTACH;FMTTYPE=image/jpeg:https://palmira.gov.co/wp-content/uploads/2021/05/vacunacion-mayoresde-55.jpg
END:VEVENT
BEGIN:VEVENT
DTSTART;TZID=America/Bogota:20210601T070000
DTEND;TZID=America/Bogota:20210604T150000
DTSTAMP:20260423T053702
CREATED:20210531T151036Z
LAST-MODIFIED:20221013T220609Z
UID:4494-1622530800-1622818800@palmira.gov.co
SUMMARY:Jornada de Vacunación
DESCRIPTION:Con el fin de que puedan acceder de manera segura y efectiva a la vacuna contra el COVID-19\, la Alcaldía de Palmira ha habilitado este espacio para que las personas priorizadas en las etapas vigentes por la Gobernación de Valle del Cauca y el municipio\, se agenden y programen su cita para iniciar el proceso de vacunación.
URL:https://palmira.gov.co/calendario/jornada-de-vacunacion/
ATTACH;FMTTYPE=image/jpeg:https://palmira.gov.co/wp-content/uploads/2021/05/vacunacion-mayoresde-55.jpg
END:VEVENT
BEGIN:VEVENT
DTSTART;TZID=America/Bogota:20210601T070000
DTEND;TZID=America/Bogota:20210604T150000
DTSTAMP:20260423T053702
CREATED:20210531T151036Z
LAST-MODIFIED:20221013T220609Z
UID:4494-1622530800-1622818800@palmira.gov.co
SUMMARY:Jornada de Vacunación
DESCRIPTION:Con el fin de que puedan acceder de manera segura y efectiva a la vacuna contra el COVID-19\, la Alcaldía de Palmira ha habilitado este espacio para que las personas priorizadas en las etapas vigentes por la Gobernación de Valle del Cauca y el municipio\, se agenden y programen su cita para iniciar el proceso de vacunación.
URL:https://palmira.gov.co/calendario/jornada-de-vacunacion/
ATTACH;FMTTYPE=image/jpeg:https://palmira.gov.co/wp-content/uploads/2021/05/vacunacion-mayoresde-55.jpg
END:VEVENT
BEGIN:VEVENT
DTSTART;TZID=America/Bogota:20211102T070000
DTEND;TZID=America/Bogota:20211102T160000
DTSTAMP:20260423T053702
CREATED:20211105T214807Z
LAST-MODIFIED:20211105T214807Z
UID:9867-1635836400-1635868800@palmira.gov.co
SUMMARY:Red Nacional de Protección al Consumidor
DESCRIPTION:¡Atención!\nLa Superintendencia de Industria y Comercio y la Red Nacional de Protección al Consumidor estarán en Palmira hasta el 5 de noviembre para ayudarle a resolver las dudas e inconformidades que tenga sobre la compra de un producto o la prestación de un servicio\, acérquese al frente del CAMP\, conozca sus derechos y hágalos valer. \n#PalmiraPaLante
URL:https://palmira.gov.co/calendario/red-nacional-de-proteccion-al-consumidor/
LOCATION:Parque Bólivar
ATTACH;FMTTYPE=image/jpeg:https://palmira.gov.co/wp-content/uploads/2021/11/251990616_4283095588479309_5035813140030402485_n.jpg
END:VEVENT
BEGIN:VEVENT
DTSTART;TZID=America/Bogota:20210601T070000
DTEND;TZID=America/Bogota:20210604T150000
DTSTAMP:20260423T053702
CREATED:20210531T151036Z
LAST-MODIFIED:20221013T220609Z
UID:4494-1622530800-1622818800@palmira.gov.co
SUMMARY:Jornada de Vacunación
DESCRIPTION:Con el fin de que puedan acceder de manera segura y efectiva a la vacuna contra el COVID-19\, la Alcaldía de Palmira ha habilitado este espacio para que las personas priorizadas en las etapas vigentes por la Gobernación de Valle del Cauca y el municipio\, se agenden y programen su cita para iniciar el proceso de vacunación.
URL:https://palmira.gov.co/calendario/jornada-de-vacunacion/
ATTACH;FMTTYPE=image/jpeg:https://palmira.gov.co/wp-content/uploads/2021/05/vacunacion-mayoresde-55.jpg
END:VEVENT
BEGIN:VEVENT
DTSTART;TZID=America/Bogota:20211102T070000
DTEND;TZID=America/Bogota:20211102T160000
DTSTAMP:20260423T053702
CREATED:20211105T214807Z
LAST-MODIFIED:20211105T214807Z
UID:9867-1635836400-1635868800@palmira.gov.co
SUMMARY:Red Nacional de Protección al Consumidor
DESCRIPTION:¡Atención!\nLa Superintendencia de Industria y Comercio y la Red Nacional de Protección al Consumidor estarán en Palmira hasta el 5 de noviembre para ayudarle a resolver las dudas e inconformidades que tenga sobre la compra de un producto o la prestación de un servicio\, acérquese al frente del CAMP\, conozca sus derechos y hágalos valer. \n#PalmiraPaLante
URL:https://palmira.gov.co/calendario/red-nacional-de-proteccion-al-consumidor/
LOCATION:Parque Bólivar
ATTACH;FMTTYPE=image/jpeg:https://palmira.gov.co/wp-content/uploads/2021/11/251990616_4283095588479309_5035813140030402485_n.jpg
END:VEVENT
BEGIN:VEVENT
DTSTART;TZID=America/Bogota:20210601T070000
DTEND;TZID=America/Bogota:20210604T150000
DTSTAMP:20260423T053702
CREATED:20210531T151036Z
LAST-MODIFIED:20221013T220609Z
UID:4494-1622530800-1622818800@palmira.gov.co
SUMMARY:Jornada de Vacunación
DESCRIPTION:Con el fin de que puedan acceder de manera segura y efectiva a la vacuna contra el COVID-19\, la Alcaldía de Palmira ha habilitado este espacio para que las personas priorizadas en las etapas vigentes por la Gobernación de Valle del Cauca y el municipio\, se agenden y programen su cita para iniciar el proceso de vacunación.
URL:https://palmira.gov.co/calendario/jornada-de-vacunacion/
ATTACH;FMTTYPE=image/jpeg:https://palmira.gov.co/wp-content/uploads/2021/05/vacunacion-mayoresde-55.jpg
END:VEVENT
BEGIN:VEVENT
DTSTART;TZID=America/Bogota:20211104T070000
DTEND;TZID=America/Bogota:20211104T120000
DTSTAMP:20260423T053702
CREATED:20211105T214341Z
LAST-MODIFIED:20211105T214341Z
UID:9861-1636009200-1636027200@palmira.gov.co
SUMMARY:jornada de salud para migrantes
DESCRIPTION:Población migrante\, te estaremos esperando desde mañana  jueves 4 hasta el lunes 8 de noviembre para que puedas acceder a la jornada de salud que hemos preparado especialmente para ti.\n\n\nEncontrarás:\n\n\n Vacunación PAI regular\n Vacunación COVID-19\n Otros servicios adicionales en salud \n\n\n\n¿Dónde?  Parque Bolivar\, frente a la alcaldía.\n\n\nHorario  De 9:00 a.m. a 1:00 p.m.
URL:https://palmira.gov.co/calendario/jornada-de-salud-para-migrantes/
LOCATION:Parque Bólivar
CATEGORIES:Salud
END:VEVENT
BEGIN:VEVENT
DTSTART;TZID=America/Bogota:20211102T070000
DTEND;TZID=America/Bogota:20211102T160000
DTSTAMP:20260423T053702
CREATED:20211105T214807Z
LAST-MODIFIED:20211105T214807Z
UID:9867-1635836400-1635868800@palmira.gov.co
SUMMARY:Red Nacional de Protección al Consumidor
DESCRIPTION:¡Atención!\nLa Superintendencia de Industria y Comercio y la Red Nacional de Protección al Consumidor estarán en Palmira hasta el 5 de noviembre para ayudarle a resolver las dudas e inconformidades que tenga sobre la compra de un producto o la prestación de un servicio\, acérquese al frente del CAMP\, conozca sus derechos y hágalos valer. \n#PalmiraPaLante
URL:https://palmira.gov.co/calendario/red-nacional-de-proteccion-al-consumidor/
LOCATION:Parque Bólivar
ATTACH;FMTTYPE=image/jpeg:https://palmira.gov.co/wp-content/uploads/2021/11/251990616_4283095588479309_5035813140030402485_n.jpg
END:VEVENT
BEGIN:VEVENT
DTSTART;TZID=America/Bogota:20210601T070000
DTEND;TZID=America/Bogota:20210604T150000
DTSTAMP:20260423T053702
CREATED:20210531T151036Z
LAST-MODIFIED:20221013T220609Z
UID:4494-1622530800-1622818800@palmira.gov.co
SUMMARY:Jornada de Vacunación
DESCRIPTION:Con el fin de que puedan acceder de manera segura y efectiva a la vacuna contra el COVID-19\, la Alcaldía de Palmira ha habilitado este espacio para que las personas priorizadas en las etapas vigentes por la Gobernación de Valle del Cauca y el municipio\, se agenden y programen su cita para iniciar el proceso de vacunación.
URL:https://palmira.gov.co/calendario/jornada-de-vacunacion/
ATTACH;FMTTYPE=image/jpeg:https://palmira.gov.co/wp-content/uploads/2021/05/vacunacion-mayoresde-55.jpg
END:VEVENT
BEGIN:VEVENT
DTSTART;TZID=America/Bogota:20211105T030000
DTEND;TZID=America/Bogota:20211105T170000
DTSTAMP:20260423T053702
CREATED:20211105T213819Z
LAST-MODIFIED:20211105T213819Z
UID:9858-1636081200-1636131600@palmira.gov.co
SUMMARY:Rendición de Cuentas 2021 - Dirección de Gestión de Medioambiente
DESCRIPTION:En el marco de la Rendición de Cuentas 2021 de la Alcaldía de Palmira\, la Dirección de Gestión de Medioambiente\, socializará todos sus programas\, servicios y proyectos y su respectivo cumplimiento\, Invitamos a todos los Palmiranos a observarla y participar en esta rendición a través del Facebook Live de la Dirección y el de la Alcaldía.
URL:https://palmira.gov.co/calendario/rendicion-de-cuentas-2021-direccion-de-gestion-de-medioambiente/
CATEGORIES:Direccion de Gestión del Medio Ambiente
ATTACH;FMTTYPE=image/jpeg:https://palmira.gov.co/wp-content/uploads/2021/11/253075176_4288570821265119_2890335627887296375_n.jpg
END:VEVENT
BEGIN:VEVENT
DTSTART;TZID=America/Bogota:20211104T070000
DTEND;TZID=America/Bogota:20211104T120000
DTSTAMP:20260423T053702
CREATED:20211105T214341Z
LAST-MODIFIED:20211105T214341Z
UID:9861-1636009200-1636027200@palmira.gov.co
SUMMARY:jornada de salud para migrantes
DESCRIPTION:Población migrante\, te estaremos esperando desde mañana  jueves 4 hasta el lunes 8 de noviembre para que puedas acceder a la jornada de salud que hemos preparado especialmente para ti.\n\n\nEncontrarás:\n\n\n Vacunación PAI regular\n Vacunación COVID-19\n Otros servicios adicionales en salud \n\n\n\n¿Dónde?  Parque Bolivar\, frente a la alcaldía.\n\n\nHorario  De 9:00 a.m. a 1:00 p.m.
URL:https://palmira.gov.co/calendario/jornada-de-salud-para-migrantes/
LOCATION:Parque Bólivar
CATEGORIES:Salud
END:VEVENT
BEGIN:VEVENT
DTSTART;TZID=America/Bogota:20211102T070000
DTEND;TZID=America/Bogota:20211102T160000
DTSTAMP:20260423T053702
CREATED:20211105T214807Z
LAST-MODIFIED:20211105T214807Z
UID:9867-1635836400-1635868800@palmira.gov.co
SUMMARY:Red Nacional de Protección al Consumidor
DESCRIPTION:¡Atención!\nLa Superintendencia de Industria y Comercio y la Red Nacional de Protección al Consumidor estarán en Palmira hasta el 5 de noviembre para ayudarle a resolver las dudas e inconformidades que tenga sobre la compra de un producto o la prestación de un servicio\, acérquese al frente del CAMP\, conozca sus derechos y hágalos valer. \n#PalmiraPaLante
URL:https://palmira.gov.co/calendario/red-nacional-de-proteccion-al-consumidor/
LOCATION:Parque Bólivar
ATTACH;FMTTYPE=image/jpeg:https://palmira.gov.co/wp-content/uploads/2021/11/251990616_4283095588479309_5035813140030402485_n.jpg
END:VEVENT
BEGIN:VEVENT
DTSTART;TZID=America/Bogota:20210601T070000
DTEND;TZID=America/Bogota:20210604T150000
DTSTAMP:20260423T053702
CREATED:20210531T151036Z
LAST-MODIFIED:20221013T220609Z
UID:4494-1622530800-1622818800@palmira.gov.co
SUMMARY:Jornada de Vacunación
DESCRIPTION:Con el fin de que puedan acceder de manera segura y efectiva a la vacuna contra el COVID-19\, la Alcaldía de Palmira ha habilitado este espacio para que las personas priorizadas en las etapas vigentes por la Gobernación de Valle del Cauca y el municipio\, se agenden y programen su cita para iniciar el proceso de vacunación.
URL:https://palmira.gov.co/calendario/jornada-de-vacunacion/
ATTACH;FMTTYPE=image/jpeg:https://palmira.gov.co/wp-content/uploads/2021/05/vacunacion-mayoresde-55.jpg
END:VEVENT
BEGIN:VEVENT
DTSTART;TZID=America/Bogota:20211104T070000
DTEND;TZID=America/Bogota:20211104T120000
DTSTAMP:20260423T053702
CREATED:20211105T214341Z
LAST-MODIFIED:20211105T214341Z
UID:9861-1636009200-1636027200@palmira.gov.co
SUMMARY:jornada de salud para migrantes
DESCRIPTION:Población migrante\, te estaremos esperando desde mañana  jueves 4 hasta el lunes 8 de noviembre para que puedas acceder a la jornada de salud que hemos preparado especialmente para ti.\n\n\nEncontrarás:\n\n\n Vacunación PAI regular\n Vacunación COVID-19\n Otros servicios adicionales en salud \n\n\n\n¿Dónde?  Parque Bolivar\, frente a la alcaldía.\n\n\nHorario  De 9:00 a.m. a 1:00 p.m.
URL:https://palmira.gov.co/calendario/jornada-de-salud-para-migrantes/
LOCATION:Parque Bólivar
CATEGORIES:Salud
END:VEVENT
BEGIN:VEVENT
DTSTART;TZID=America/Bogota:20210601T070000
DTEND;TZID=America/Bogota:20210604T150000
DTSTAMP:20260423T053702
CREATED:20210531T151036Z
LAST-MODIFIED:20221013T220609Z
UID:4494-1622530800-1622818800@palmira.gov.co
SUMMARY:Jornada de Vacunación
DESCRIPTION:Con el fin de que puedan acceder de manera segura y efectiva a la vacuna contra el COVID-19\, la Alcaldía de Palmira ha habilitado este espacio para que las personas priorizadas en las etapas vigentes por la Gobernación de Valle del Cauca y el municipio\, se agenden y programen su cita para iniciar el proceso de vacunación.
URL:https://palmira.gov.co/calendario/jornada-de-vacunacion/
ATTACH;FMTTYPE=image/jpeg:https://palmira.gov.co/wp-content/uploads/2021/05/vacunacion-mayoresde-55.jpg
END:VEVENT
BEGIN:VEVENT
DTSTART;TZID=America/Bogota:20211106T100000
DTEND;TZID=America/Bogota:20211106T150000
DTSTAMP:20260423T053702
CREATED:20211105T215155Z
LAST-MODIFIED:20211105T215440Z
UID:9873-1636192800-1636210800@palmira.gov.co
SUMMARY:Festival Gastropark Rozo
DESCRIPTION:Te invitamos a visitar este sábado el parque Salvador Lenis en Rozo y disfruta del festival gastronómico #GastroPark
URL:https://palmira.gov.co/calendario/festival-gastropark-rozo/
ATTACH;FMTTYPE=image/jpeg:https://palmira.gov.co/wp-content/uploads/2021/11/250920896_4280339858754882_2322463164601788032_n.jpg
END:VEVENT
BEGIN:VEVENT
DTSTART;TZID=America/Bogota:20211107T080000
DTEND;TZID=America/Bogota:20211107T120000
DTSTAMP:20260423T053702
CREATED:20211105T215339Z
LAST-MODIFIED:20211105T215339Z
UID:9876-1636272000-1636286400@palmira.gov.co
SUMMARY:Cultura Malagana en el Bolo
DESCRIPTION:vive la cultura malagana en el corregimiento del Bolo
URL:https://palmira.gov.co/calendario/cultura-malagana-en-el-bolo/
ATTACH;FMTTYPE=image/jpeg:https://palmira.gov.co/wp-content/uploads/2021/11/252771780_4280339862088215_7259581848075215015_n.jpg
END:VEVENT
BEGIN:VEVENT
DTSTART;TZID=America/Bogota:20211104T070000
DTEND;TZID=America/Bogota:20211104T120000
DTSTAMP:20260423T053702
CREATED:20211105T214341Z
LAST-MODIFIED:20211105T214341Z
UID:9861-1636009200-1636027200@palmira.gov.co
SUMMARY:jornada de salud para migrantes
DESCRIPTION:Población migrante\, te estaremos esperando desde mañana  jueves 4 hasta el lunes 8 de noviembre para que puedas acceder a la jornada de salud que hemos preparado especialmente para ti.\n\n\nEncontrarás:\n\n\n Vacunación PAI regular\n Vacunación COVID-19\n Otros servicios adicionales en salud \n\n\n\n¿Dónde?  Parque Bolivar\, frente a la alcaldía.\n\n\nHorario  De 9:00 a.m. a 1:00 p.m.
URL:https://palmira.gov.co/calendario/jornada-de-salud-para-migrantes/
LOCATION:Parque Bólivar
CATEGORIES:Salud
END:VEVENT
BEGIN:VEVENT
DTSTART;TZID=America/Bogota:20210601T070000
DTEND;TZID=America/Bogota:20210604T150000
DTSTAMP:20260423T053702
CREATED:20210531T151036Z
LAST-MODIFIED:20221013T220609Z
UID:4494-1622530800-1622818800@palmira.gov.co
SUMMARY:Jornada de Vacunación
DESCRIPTION:Con el fin de que puedan acceder de manera segura y efectiva a la vacuna contra el COVID-19\, la Alcaldía de Palmira ha habilitado este espacio para que las personas priorizadas en las etapas vigentes por la Gobernación de Valle del Cauca y el municipio\, se agenden y programen su cita para iniciar el proceso de vacunación.
URL:https://palmira.gov.co/calendario/jornada-de-vacunacion/
ATTACH;FMTTYPE=image/jpeg:https://palmira.gov.co/wp-content/uploads/2021/05/vacunacion-mayoresde-55.jpg
END:VEVENT
BEGIN:VEVENT
DTSTART;TZID=America/Bogota:20211104T070000
DTEND;TZID=America/Bogota:20211104T120000
DTSTAMP:20260423T053702
CREATED:20211105T214341Z
LAST-MODIFIED:20211105T214341Z
UID:9861-1636009200-1636027200@palmira.gov.co
SUMMARY:jornada de salud para migrantes
DESCRIPTION:Población migrante\, te estaremos esperando desde mañana  jueves 4 hasta el lunes 8 de noviembre para que puedas acceder a la jornada de salud que hemos preparado especialmente para ti.\n\n\nEncontrarás:\n\n\n Vacunación PAI regular\n Vacunación COVID-19\n Otros servicios adicionales en salud \n\n\n\n¿Dónde?  Parque Bolivar\, frente a la alcaldía.\n\n\nHorario  De 9:00 a.m. a 1:00 p.m.
URL:https://palmira.gov.co/calendario/jornada-de-salud-para-migrantes/
LOCATION:Parque Bólivar
CATEGORIES:Salud
END:VEVENT
BEGIN:VEVENT
DTSTART;TZID=America/Bogota:20210601T070000
DTEND;TZID=America/Bogota:20210604T150000
DTSTAMP:20260423T053702
CREATED:20210531T151036Z
LAST-MODIFIED:20221013T220609Z
UID:4494-1622530800-1622818800@palmira.gov.co
SUMMARY:Jornada de Vacunación
DESCRIPTION:Con el fin de que puedan acceder de manera segura y efectiva a la vacuna contra el COVID-19\, la Alcaldía de Palmira ha habilitado este espacio para que las personas priorizadas en las etapas vigentes por la Gobernación de Valle del Cauca y el municipio\, se agenden y programen su cita para iniciar el proceso de vacunación.
URL:https://palmira.gov.co/calendario/jornada-de-vacunacion/
ATTACH;FMTTYPE=image/jpeg:https://palmira.gov.co/wp-content/uploads/2021/05/vacunacion-mayoresde-55.jpg
END:VEVENT
BEGIN:VEVENT
DTSTART;TZID=America/Bogota:20210601T070000
DTEND;TZID=America/Bogota:20210604T150000
DTSTAMP:20260423T053702
CREATED:20210531T151036Z
LAST-MODIFIED:20221013T220609Z
UID:4494-1622530800-1622818800@palmira.gov.co
SUMMARY:Jornada de Vacunación
DESCRIPTION:Con el fin de que puedan acceder de manera segura y efectiva a la vacuna contra el COVID-19\, la Alcaldía de Palmira ha habilitado este espacio para que las personas priorizadas en las etapas vigentes por la Gobernación de Valle del Cauca y el municipio\, se agenden y programen su cita para iniciar el proceso de vacunación.
URL:https://palmira.gov.co/calendario/jornada-de-vacunacion/
ATTACH;FMTTYPE=image/jpeg:https://palmira.gov.co/wp-content/uploads/2021/05/vacunacion-mayoresde-55.jpg
END:VEVENT
BEGIN:VEVENT
DTSTART;TZID=America/Bogota:20210601T070000
DTEND;TZID=America/Bogota:20210604T150000
DTSTAMP:20260423T053702
CREATED:20210531T151036Z
LAST-MODIFIED:20221013T220609Z
UID:4494-1622530800-1622818800@palmira.gov.co
SUMMARY:Jornada de Vacunación
DESCRIPTION:Con el fin de que puedan acceder de manera segura y efectiva a la vacuna contra el COVID-19\, la Alcaldía de Palmira ha habilitado este espacio para que las personas priorizadas en las etapas vigentes por la Gobernación de Valle del Cauca y el municipio\, se agenden y programen su cita para iniciar el proceso de vacunación.
URL:https://palmira.gov.co/calendario/jornada-de-vacunacion/
ATTACH;FMTTYPE=image/jpeg:https://palmira.gov.co/wp-content/uploads/2021/05/vacunacion-mayoresde-55.jpg
END:VEVENT
BEGIN:VEVENT
DTSTART;TZID=America/Bogota:20210601T070000
DTEND;TZID=America/Bogota:20210604T150000
DTSTAMP:20260423T053702
CREATED:20210531T151036Z
LAST-MODIFIED:20221013T220609Z
UID:4494-1622530800-1622818800@palmira.gov.co
SUMMARY:Jornada de Vacunación
DESCRIPTION:Con el fin de que puedan acceder de manera segura y efectiva a la vacuna contra el COVID-19\, la Alcaldía de Palmira ha habilitado este espacio para que las personas priorizadas en las etapas vigentes por la Gobernación de Valle del Cauca y el municipio\, se agenden y programen su cita para iniciar el proceso de vacunación.
URL:https://palmira.gov.co/calendario/jornada-de-vacunacion/
ATTACH;FMTTYPE=image/jpeg:https://palmira.gov.co/wp-content/uploads/2021/05/vacunacion-mayoresde-55.jpg
END:VEVENT
BEGIN:VEVENT
DTSTART;TZID=America/Bogota:20210601T070000
DTEND;TZID=America/Bogota:20210604T150000
DTSTAMP:20260423T053702
CREATED:20210531T151036Z
LAST-MODIFIED:20221013T220609Z
UID:4494-1622530800-1622818800@palmira.gov.co
SUMMARY:Jornada de Vacunación
DESCRIPTION:Con el fin de que puedan acceder de manera segura y efectiva a la vacuna contra el COVID-19\, la Alcaldía de Palmira ha habilitado este espacio para que las personas priorizadas en las etapas vigentes por la Gobernación de Valle del Cauca y el municipio\, se agenden y programen su cita para iniciar el proceso de vacunación.
URL:https://palmira.gov.co/calendario/jornada-de-vacunacion/
ATTACH;FMTTYPE=image/jpeg:https://palmira.gov.co/wp-content/uploads/2021/05/vacunacion-mayoresde-55.jpg
END:VEVENT
BEGIN:VEVENT
DTSTART;TZID=America/Bogota:20210601T070000
DTEND;TZID=America/Bogota:20210604T150000
DTSTAMP:20260423T053702
CREATED:20210531T151036Z
LAST-MODIFIED:20221013T220609Z
UID:4494-1622530800-1622818800@palmira.gov.co
SUMMARY:Jornada de Vacunación
DESCRIPTION:Con el fin de que puedan acceder de manera segura y efectiva a la vacuna contra el COVID-19\, la Alcaldía de Palmira ha habilitado este espacio para que las personas priorizadas en las etapas vigentes por la Gobernación de Valle del Cauca y el municipio\, se agenden y programen su cita para iniciar el proceso de vacunación.
URL:https://palmira.gov.co/calendario/jornada-de-vacunacion/
ATTACH;FMTTYPE=image/jpeg:https://palmira.gov.co/wp-content/uploads/2021/05/vacunacion-mayoresde-55.jpg
END:VEVENT
BEGIN:VEVENT
DTSTART;TZID=America/Bogota:20210601T070000
DTEND;TZID=America/Bogota:20210604T150000
DTSTAMP:20260423T053702
CREATED:20210531T151036Z
LAST-MODIFIED:20221013T220609Z
UID:4494-1622530800-1622818800@palmira.gov.co
SUMMARY:Jornada de Vacunación
DESCRIPTION:Con el fin de que puedan acceder de manera segura y efectiva a la vacuna contra el COVID-19\, la Alcaldía de Palmira ha habilitado este espacio para que las personas priorizadas en las etapas vigentes por la Gobernación de Valle del Cauca y el municipio\, se agenden y programen su cita para iniciar el proceso de vacunación.
URL:https://palmira.gov.co/calendario/jornada-de-vacunacion/
ATTACH;FMTTYPE=image/jpeg:https://palmira.gov.co/wp-content/uploads/2021/05/vacunacion-mayoresde-55.jpg
END:VEVENT
BEGIN:VEVENT
DTSTART;TZID=America/Bogota:20210601T070000
DTEND;TZID=America/Bogota:20210604T150000
DTSTAMP:20260423T053702
CREATED:20210531T151036Z
LAST-MODIFIED:20221013T220609Z
UID:4494-1622530800-1622818800@palmira.gov.co
SUMMARY:Jornada de Vacunación
DESCRIPTION:Con el fin de que puedan acceder de manera segura y efectiva a la vacuna contra el COVID-19\, la Alcaldía de Palmira ha habilitado este espacio para que las personas priorizadas en las etapas vigentes por la Gobernación de Valle del Cauca y el municipio\, se agenden y programen su cita para iniciar el proceso de vacunación.
URL:https://palmira.gov.co/calendario/jornada-de-vacunacion/
ATTACH;FMTTYPE=image/jpeg:https://palmira.gov.co/wp-content/uploads/2021/05/vacunacion-mayoresde-55.jpg
END:VEVENT
END:VCALENDAR